BEGIN:VCALENDAR
VERSION:2.0
PRODID:-//Kansas Department of The American Legion - ECPv6.15.20//NONSGML v1.0//EN
CALSCALE:GREGORIAN
METHOD:PUBLISH
X-WR-CALNAME:Kansas Department of The American Legion
X-ORIGINAL-URL:https://kansaslegion.org
X-WR-CALDESC:Events for Kansas Department of The American Legion
REFRESH-INTERVAL;VALUE=DURATION:PT1H
X-Robots-Tag:noindex
X-PUBLISHED-TTL:PT1H
BEGIN:VTIMEZONE
TZID:America/Chicago
BEGIN:DAYLIGHT
TZOFFSETFROM:-0600
TZOFFSETTO:-0500
TZNAME:CDT
DTSTART:20200308T080000
END:DAYLIGHT
BEGIN:STANDARD
TZOFFSETFROM:-0500
TZOFFSETTO:-0600
TZNAME:CST
DTSTART:20201101T070000
END:STANDARD
BEGIN:DAYLIGHT
TZOFFSETFROM:-0600
TZOFFSETTO:-0500
TZNAME:CDT
DTSTART:20210314T080000
END:DAYLIGHT
BEGIN:STANDARD
TZOFFSETFROM:-0500
TZOFFSETTO:-0600
TZNAME:CST
DTSTART:20211107T070000
END:STANDARD
BEGIN:DAYLIGHT
TZOFFSETFROM:-0600
TZOFFSETTO:-0500
TZNAME:CDT
DTSTART:20220313T080000
END:DAYLIGHT
BEGIN:STANDARD
TZOFFSETFROM:-0500
TZOFFSETTO:-0600
TZNAME:CST
DTSTART:20221106T070000
END:STANDARD
END:VTIMEZONE
BEGIN:VEVENT
DTSTART;VALUE=DATE:20210320
DTEND;VALUE=DATE:20210321
DTSTAMP:20260425T065858
CREATED:20210212T161330Z
LAST-MODIFIED:20210212T161330Z
UID:381-1616198400-1616284799@kansaslegion.org
SUMMARY:District IX Convention
DESCRIPTION:
URL:https://kansaslegion.org/event/district-ix-convention
LOCATION:Oberlin Post 70\, 114 S Rodehaver Ave.\, Oberlin\, KS\, 67749\, United States
END:VEVENT
BEGIN:VEVENT
DTSTART;TZID=America/Chicago:20210221T130000
DTEND;TZID=America/Chicago:20210221T150000
DTSTAMP:20260425T065858
CREATED:20210212T162221Z
LAST-MODIFIED:20210212T162221Z
UID:389-1613912400-1613919600@kansaslegion.org
SUMMARY:District V Oratorical Contest
DESCRIPTION:
URL:https://kansaslegion.org/event/district-v-oratorical-contest
LOCATION:Wichita Post 4\, 816 N. Water St.\, Wichita\, KS\, 67203\, United States
END:VEVENT
BEGIN:VEVENT
DTSTART;TZID=America/Chicago:20210220T130000
DTEND;TZID=America/Chicago:20210220T150000
DTSTAMP:20260425T065858
CREATED:20210212T162033Z
LAST-MODIFIED:20210212T162033Z
UID:386-1613826000-1613833200@kansaslegion.org
SUMMARY:District III Oratorical Contest
DESCRIPTION:
URL:https://kansaslegion.org/event/district-iii-oratorical-contest
LOCATION:Erie Post 102\, 321 S Main\, Erie\, KS\, 66733\, United States
END:VEVENT
BEGIN:VEVENT
DTSTART;VALUE=DATE:20210215
DTEND;VALUE=DATE:20210216
DTSTAMP:20260425T065858
CREATED:20210212T162454Z
LAST-MODIFIED:20210212T162454Z
UID:392-1613347200-1613433599@kansaslegion.org
SUMMARY:Deadline for Department Scholarship Applications
DESCRIPTION:
URL:https://kansaslegion.org/event/deadline-for-department-scholarship-applications
LOCATION:Department Headquarters\, 1314 SW Topeka Blvd.\, Topeka\, KS\, 66612\, United States
END:VEVENT
BEGIN:VEVENT
DTSTART;TZID=America/Chicago:20210213T100000
DTEND;TZID=America/Chicago:20210213T120000
DTSTAMP:20260425T065858
CREATED:20210212T161841Z
LAST-MODIFIED:20210212T161841Z
UID:384-1613210400-1613217600@kansaslegion.org
SUMMARY:District I Oratorical Contest
DESCRIPTION:
URL:https://kansaslegion.org/event/district-i-oratorical-contest
LOCATION:Topeka Post 400\, 3029 US-24\, Topeka\, Kansas\, 66618
END:VEVENT
END:VCALENDAR