BEGIN:VCALENDAR
VERSION:2.0
PRODID:-//Kansas Department of The American Legion - ECPv6.15.20//NONSGML v1.0//EN
CALSCALE:GREGORIAN
METHOD:PUBLISH
X-WR-CALNAME:Kansas Department of The American Legion
X-ORIGINAL-URL:https://kansaslegion.org
X-WR-CALDESC:Events for Kansas Department of The American Legion
REFRESH-INTERVAL;VALUE=DURATION:PT1H
X-Robots-Tag:noindex
X-PUBLISHED-TTL:PT1H
BEGIN:VTIMEZONE
TZID:America/Chicago
BEGIN:DAYLIGHT
TZOFFSETFROM:-0600
TZOFFSETTO:-0500
TZNAME:CDT
DTSTART:20220313T080000
END:DAYLIGHT
BEGIN:STANDARD
TZOFFSETFROM:-0500
TZOFFSETTO:-0600
TZNAME:CST
DTSTART:20221106T070000
END:STANDARD
BEGIN:DAYLIGHT
TZOFFSETFROM:-0600
TZOFFSETTO:-0500
TZNAME:CDT
DTSTART:20230312T080000
END:DAYLIGHT
BEGIN:STANDARD
TZOFFSETFROM:-0500
TZOFFSETTO:-0600
TZNAME:CST
DTSTART:20231105T070000
END:STANDARD
BEGIN:DAYLIGHT
TZOFFSETFROM:-0600
TZOFFSETTO:-0500
TZNAME:CDT
DTSTART:20240310T080000
END:DAYLIGHT
BEGIN:STANDARD
TZOFFSETFROM:-0500
TZOFFSETTO:-0600
TZNAME:CST
DTSTART:20241103T070000
END:STANDARD
BEGIN:DAYLIGHT
TZOFFSETFROM:-0600
TZOFFSETTO:-0500
TZNAME:CDT
DTSTART:20250309T080000
END:DAYLIGHT
BEGIN:STANDARD
TZOFFSETFROM:-0500
TZOFFSETTO:-0600
TZNAME:CST
DTSTART:20251102T070000
END:STANDARD
END:VTIMEZONE
BEGIN:VEVENT
DTSTART;VALUE=DATE:20240602
DTEND;VALUE=DATE:20240609
DTSTAMP:20260425T115939
CREATED:20240202T230621Z
LAST-MODIFIED:20240202T230753Z
UID:2508-1717286400-1717891199@kansaslegion.org
SUMMARY:Boys State
DESCRIPTION:The essence of Boys State is a program in which participants learn about government by becoming a mock\, or virtual\, government. This technique\, which we refer to as learning-by-doing\, was the goal Legionnaires Hayes Kennedy and Harrold L. Card wanted to reach when they founded Boys’ State in Illinois in 1935.
URL:https://kansaslegion.org/event/boys-state-3
LOCATION:Kansas State University\, 1835 Claflin Rd.\, Manhattan\, KS\, 66502\, United States
CATEGORIES:Department
END:VEVENT
BEGIN:VEVENT
DTSTART;VALUE=DATE:20240531
DTEND;VALUE=DATE:20240603
DTSTAMP:20260425T115939
CREATED:20240203T153518Z
LAST-MODIFIED:20240203T153518Z
UID:2513-1717113600-1717372799@kansaslegion.org
SUMMARY:Department Convention
DESCRIPTION:
URL:https://kansaslegion.org/event/department-convention-3
LOCATION:Ramada Hotel\, Topeka\, 420 SE 6th St\, Topeka\, KS\, 66607\, United States
CATEGORIES:Department
END:VEVENT
BEGIN:VEVENT
DTSTART;VALUE=DATE:20240427
DTEND;VALUE=DATE:20240428
DTSTAMP:20260425T115939
CREATED:20240202T224709Z
LAST-MODIFIED:20240203T155244Z
UID:2502-1714176000-1714262399@kansaslegion.org
SUMMARY:District X Convention
DESCRIPTION:Beginning in March and continuing each weekend throughout April\, Districts will meet in Convention for the purpose of conducting its business and electing officers for the 2024-25 membership year which begins on July 1.  Each District is required to elect Representatives to the Department Convention’s Constitution and Bylaws\, Resolutions\, Credentials and Rules Committees\, and the District’s Delegates and Alternates to the National Convention in New Orleans\, Louisiana\, August 23 – 29\, 2024.  Every Legionnaire is encouraged to attend their District’s Convention as a delegate\, alternate\, or guest representing their Post.  Interested members should notify their Post they wish to serve as a Delegate or Alternate to their District or the Department Convention\, or both.
URL:https://kansaslegion.org/event/district-x-convention-2
LOCATION:Fairview Post #322\, Fairview\, KS\, United States
CATEGORIES:District
END:VEVENT
BEGIN:VEVENT
DTSTART;VALUE=DATE:20240427
DTEND;VALUE=DATE:20240428
DTSTAMP:20260425T115939
CREATED:20240202T222900Z
LAST-MODIFIED:20240203T155402Z
UID:2491-1714176000-1714262399@kansaslegion.org
SUMMARY:District VI Convention
DESCRIPTION:Beginning in March and continuing each weekend throughout April\, Districts will meet in Convention for the purpose of conducting its business and electing officers for the 2024-25 membership year which begins on July 1.  Each District is required to elect Representatives to the Department Convention’s Constitution and Bylaws\, Resolutions\, Credentials and Rules Committees\, and the District’s Delegates and Alternates to the National Convention in New Orleans\, Louisiana\, August 23 – 29\, 2024.  Every Legionnaire is encouraged to attend their District’s Convention as a delegate\, alternate\, or guest representing their Post.  Interested members should notify their Post they wish to serve as a Delegate or Alternate to their District or the Department Convention\, or both.
URL:https://kansaslegion.org/event/district-vi-convention-3
LOCATION:Smith Center Post #220\, Smith Center\, KS\, United States
CATEGORIES:District
END:VEVENT
BEGIN:VEVENT
DTSTART;VALUE=DATE:20240420
DTEND;VALUE=DATE:20240421
DTSTAMP:20260425T115939
CREATED:20240202T224317Z
LAST-MODIFIED:20240202T224317Z
UID:2500-1713571200-1713657599@kansaslegion.org
SUMMARY:District IX Convention
DESCRIPTION:Beginning in March and continuing each weekend throughout April\, Districts will meet in Convention for the purpose of conducting its business and electing officers for the 2024-25 membership year which begins on July 1.  Each District is required to elect Representatives to the Department Convention’s Constitution and Bylaws\, Resolutions\, Credentials and Rules Committees\, and the District’s Delegates and Alternates to the National Convention in New Orleans\, Louisiana\, August 23 – 29\, 2024.  Every Legionnaire is encouraged to attend their District’s Convention as a delegate\, alternate\, or guest representing their Post.  Interested members should notify their Post they wish to serve as a Delegate or Alternate to their District or the Department Convention\, or both.
URL:https://kansaslegion.org/event/district-ix-convention-3
LOCATION:Grainfield Post #301\, Grainfield\, KS\, United States
CATEGORIES:District
END:VEVENT
BEGIN:VEVENT
DTSTART;VALUE=DATE:20240420
DTEND;VALUE=DATE:20240421
DTSTAMP:20260425T115939
CREATED:20240202T224002Z
LAST-MODIFIED:20240203T155429Z
UID:2497-1713571200-1713657599@kansaslegion.org
SUMMARY:District VIII Convention
DESCRIPTION:Beginning in March and continuing each weekend throughout April\, Districts will meet in Convention for the purpose of conducting its business and electing officers for the 2024-25 membership year which begins on July 1.  Each District is required to elect Representatives to the Department Convention’s Constitution and Bylaws\, Resolutions\, Credentials and Rules Committees\, and the District’s Delegates and Alternates to the National Convention in New Orleans\, Louisiana\, August 23 – 29\, 2024.  Every Legionnaire is encouraged to attend their District’s Convention as a delegate\, alternate\, or guest representing their Post.  Interested members should notify their Post they wish to serve as a Delegate or Alternate to their District or the Department Convention\, or both.
URL:https://kansaslegion.org/event/district-viii-convention-3
LOCATION:Grainfield Post #301\, Grainfield\, KS\, United States
CATEGORIES:District
END:VEVENT
BEGIN:VEVENT
DTSTART;VALUE=DATE:20240413
DTEND;VALUE=DATE:20240414
DTSTAMP:20260425T115939
CREATED:20240202T222133Z
LAST-MODIFIED:20240202T222133Z
UID:2484-1712966400-1713052799@kansaslegion.org
SUMMARY:District IV Convention
DESCRIPTION:Beginning in March and continuing each weekend throughout April\, Districts will meet in Convention for the purpose of conducting its business and electing officers for the 2024-25 membership year which begins on July 1.  Each District is required to elect Representatives to the Department Convention’s Constitution and Bylaws\, Resolutions\, Credentials and Rules Committees\, and the District’s Delegates and Alternates to the National Convention in New Orleans\, Louisiana\, August 23 – 29\, 2024.  Every Legionnaire is encouraged to attend their District’s Convention as a delegate\, alternate\, or guest representing their Post.  Interested members should notify their Post they wish to serve as a Delegate or Alternate to their District or the Department Convention\, or both.
URL:https://kansaslegion.org/event/district-iv-convention-3
LOCATION:Emporia Post #5\, Emporia\, KS\, United States
CATEGORIES:District
END:VEVENT
BEGIN:VEVENT
DTSTART;VALUE=DATE:20240413
DTEND;VALUE=DATE:20240414
DTSTAMP:20260425T115939
CREATED:20240202T221426Z
LAST-MODIFIED:20240202T221426Z
UID:2475-1712966400-1713052799@kansaslegion.org
SUMMARY:District I Convention
DESCRIPTION:Beginning in March and continuing each weekend throughout April\, Districts will meet in Convention for the purpose of conducting its business and electing officers for the 2024-25 membership year which begins on July 1.  Each District is required to elect Representatives to the Department Convention’s Constitution and Bylaws\, Resolutions\, Credentials and Rules Committees\, and the District’s Delegates and Alternates to the National Convention in New Orleans\, Louisiana\, August 23 – 29\, 2024.  Every Legionnaire is encouraged to attend their District’s Convention as a delegate\, alternate\, or guest representing their Post.  Interested members should notify their Post they wish to serve as a Delegate or Alternate to their District or the Department Convention\, or both.
URL:https://kansaslegion.org/event/district-i-convention-3
LOCATION:Holton Post #44\, Holton\, KS\, United States
CATEGORIES:District
END:VEVENT
BEGIN:VEVENT
DTSTART;VALUE=DATE:20240406
DTEND;VALUE=DATE:20240407
DTSTAMP:20260425T115939
CREATED:20240202T223629Z
LAST-MODIFIED:20240203T155455Z
UID:2494-1712361600-1712447999@kansaslegion.org
SUMMARY:District VII Convention
DESCRIPTION:Beginning in March and continuing each weekend throughout April\, Districts will meet in Convention for the purpose of conducting its business and electing officers for the 2024-25 membership year which begins on July 1.  Each District is required to elect Representatives to the Department Convention’s Constitution and Bylaws\, Resolutions\, Credentials and Rules Committees\, and the District’s Delegates and Alternates to the National Convention in New Orleans\, Louisiana\, August 23 – 29\, 2024.  Every Legionnaire is encouraged to attend their District’s Convention as a delegate\, alternate\, or guest representing their Post.  Interested members should notify their Post they wish to serve as a Delegate or Alternate to their District or the Department Convention\, or both.
URL:https://kansaslegion.org/event/district-vii-convention-3
LOCATION:Great Bend Post #180\, Great Bend\, KS\, United States
CATEGORIES:District
END:VEVENT
BEGIN:VEVENT
DTSTART;VALUE=DATE:20240406
DTEND;VALUE=DATE:20240407
DTSTAMP:20260425T115939
CREATED:20240202T222533Z
LAST-MODIFIED:20240202T222533Z
UID:2487-1712361600-1712447999@kansaslegion.org
SUMMARY:District V Convention
DESCRIPTION:Beginning in March and continuing each weekend throughout April\, Districts will meet in Convention for the purpose of conducting its business and electing officers for the 2024-25 membership year which begins on July 1.  Each District is required to elect Representatives to the Department Convention’s Constitution and Bylaws\, Resolutions\, Credentials and Rules Committees\, and the District’s Delegates and Alternates to the National Convention in New Orleans\, Louisiana\, August 23 – 29\, 2024.  Every Legionnaire is encouraged to attend their District’s Convention as a delegate\, alternate\, or guest representing their Post.  Interested members should notify their Post they wish to serve as a Delegate or Alternate to their District or the Department Convention\, or both.
URL:https://kansaslegion.org/event/district-v-convention-3
LOCATION:Derby-Haysville Post #408\, 120 E. Washington\, Derby-Haysville\, KS\, United States
CATEGORIES:District
END:VEVENT
BEGIN:VEVENT
DTSTART;VALUE=DATE:20240323
DTEND;VALUE=DATE:20240324
DTSTAMP:20260425T115939
CREATED:20240202T221701Z
LAST-MODIFIED:20240202T221701Z
UID:2478-1711152000-1711238399@kansaslegion.org
SUMMARY:District II Convention
DESCRIPTION:Beginning in March and continuing each weekend throughout April\, Districts will meet in Convention for the purpose of conducting its business and electing officers for the 2024-25 membership year which begins on July 1.  Each District is required to elect Representatives to the Department Convention’s Constitution and Bylaws\, Resolutions\, Credentials and Rules Committees\, and the District’s Delegates and Alternates to the National Convention in New Orleans\, Louisiana\, August 23 – 29\, 2024.  Every Legionnaire is encouraged to attend their District’s Convention as a delegate\, alternate\, or guest representing their Post.  Interested members should notify their Post they wish to serve as a Delegate or Alternate to their District or the Department Convention\, or both.
URL:https://kansaslegion.org/event/district-ii-convention-3
LOCATION:Shawnee Post #327\, Shawnee\, KS\, United States
CATEGORIES:District
END:VEVENT
BEGIN:VEVENT
DTSTART;VALUE=DATE:20240322
DTEND;VALUE=DATE:20240325
DTSTAMP:20260425T115939
CREATED:20240202T221929Z
LAST-MODIFIED:20240202T221929Z
UID:2481-1711065600-1711324799@kansaslegion.org
SUMMARY:District III Convention
DESCRIPTION:Beginning in March and continuing each weekend throughout April\, Districts will meet in Convention for the purpose of conducting its business and electing officers for the 2024-25 membership year which begins on July 1.  Each District is required to elect Representatives to the Department Convention’s Constitution and Bylaws\, Resolutions\, Credentials and Rules Committees\, and the District’s Delegates and Alternates to the National Convention in New Orleans\, Louisiana\, August 23 – 29\, 2024.  Every Legionnaire is encouraged to attend their District’s Convention as a delegate\, alternate\, or guest representing their Post.  Interested members should notify their Post they wish to serve as a Delegate or Alternate to their District or the Department Convention\, or both.
URL:https://kansaslegion.org/event/district-iii-convention-3
LOCATION:Coffeyville Post #20\, Coffeyville\, KS\, United States
CATEGORIES:District
END:VEVENT
BEGIN:VEVENT
DTSTART;TZID=America/Chicago:20240316T090000
DTEND;TZID=America/Chicago:20240316T130000
DTSTAMP:20260425T115939
CREATED:20240203T153225Z
LAST-MODIFIED:20240203T153225Z
UID:2511-1710579600-1710594000@kansaslegion.org
SUMMARY:Department Oratorical Contest
DESCRIPTION:The purpose of The American Legion High School Oratorical Scholarship Program “A Constitutional Speech Contest” is to develop a deeper knowledge and appreciation of the Constitution of the United States among high school students. Other objectives of the contest include the development of leadership qualities\, the ability to think and speak clearly and intelligently\, and the preparation for acceptance of the duties and responsibilities\, the rights and privileges of American citizenship.
URL:https://kansaslegion.org/event/department-oratorical-contest-2
LOCATION:Manhattan Post 17\, 114 McCall Rd.\, Manhattan\, KS\, United States
CATEGORIES:Department
END:VEVENT
BEGIN:VEVENT
DTSTART;VALUE=DATE:20240202
DTEND;VALUE=DATE:20240205
DTSTAMP:20260425T115939
CREATED:20240202T220414Z
LAST-MODIFIED:20240203T155526Z
UID:2472-1706832000-1707091199@kansaslegion.org
SUMMARY:Mid-Winter Forum
DESCRIPTION:The Mid-Winter Forum offers every member\, especially Post leaders and chairmen\, the opportunity to learn more about The American Legion\, its programs and the direction each program is expected to take if there are any changes being considered\, including changes directed by National Headquarters. In addition\, the Forum provides information about how and why The American Legion functions in the manner we do as an organization.
URL:https://kansaslegion.org/event/mid-winter-forum-2
LOCATION:Hutchinson Post #68\, 730 W 4th Ave\, Hutchinson\, KS\, 67504
CATEGORIES:Department
END:VEVENT
BEGIN:VEVENT
DTSTART;TZID=America/Chicago:20231014T100000
DTEND;TZID=America/Chicago:20231014T120000
DTSTAMP:20260425T115939
CREATED:20210212T164627Z
LAST-MODIFIED:20230204T140935Z
UID:408-1697277600-1697284800@kansaslegion.org
SUMMARY:Eisenhower Pilgrimage
DESCRIPTION:
URL:https://kansaslegion.org/event/eisenhower-pilgrimage
LOCATION:Eisenhower Presidential Library\, 200 SE 4th St.\, Abilene\, KS\, 67410\, United States
END:VEVENT
BEGIN:VEVENT
DTSTART;TZID=America/Chicago:20230908T080000
DTEND;TZID=America/Chicago:20230917T170000
DTSTAMP:20260425T115939
CREATED:20230204T150347Z
LAST-MODIFIED:20230204T150347Z
UID:2025-1694160000-1694970000@kansaslegion.org
SUMMARY:Kansas State Fair
DESCRIPTION:
URL:https://kansaslegion.org/event/kansas-state-fair
LOCATION:KS
END:VEVENT
BEGIN:VEVENT
DTSTART;VALUE=DATE:20230825
DTEND;VALUE=DATE:20230901
DTSTAMP:20260425T115939
CREATED:20210212T163847Z
LAST-MODIFIED:20230204T153905Z
UID:405-1692921600-1693526399@kansaslegion.org
SUMMARY:National Convention
DESCRIPTION:Hotel: Holiday Inn Charlotte-City Center\nRoom Rate: $171.72 \nKansas Party participants must coordinate with the Department of Kansas.
URL:https://kansaslegion.org/event/national-convention
LOCATION:Charlotte\, North Carolina\, NC
END:VEVENT
BEGIN:VEVENT
DTSTART;VALUE=DATE:20230727
DTEND;VALUE=DATE:20230730
DTSTAMP:20260425T115939
CREATED:20230204T145318Z
LAST-MODIFIED:20230204T145318Z
UID:2019-1690416000-1690675199@kansaslegion.org
SUMMARY:National Membership Workshop
DESCRIPTION:
URL:https://kansaslegion.org/event/national-membership-workshop
LOCATION:Indianapolis\, IN
END:VEVENT
BEGIN:VEVENT
DTSTART;VALUE=DATE:20230714
DTEND;VALUE=DATE:20230716
DTSTAMP:20260425T115939
CREATED:20230204T145612Z
LAST-MODIFIED:20230204T145612Z
UID:2022-1689292800-1689465599@kansaslegion.org
SUMMARY:Erie Bean Feed and Parade
DESCRIPTION:
URL:https://kansaslegion.org/event/erie-bean-feed-and-parade
LOCATION:Erie\, KS
END:VEVENT
BEGIN:VEVENT
DTSTART;VALUE=DATE:20230611
DTEND;VALUE=DATE:20230617
DTSTAMP:20260425T115939
CREATED:20211213T201112Z
LAST-MODIFIED:20230204T140837Z
UID:1377-1686441600-1686959999@kansaslegion.org
SUMMARY:Cadet Law Enforcement Academy
DESCRIPTION:The Cadet Law Enforcement Academy\, co-sponsored by the Kansas American Legion\, Auxiliary and Kansas Highway Patrol offers high school juniors and seniors the opportunity to gain knowledge regarding training and responsibilities of all law enforcement officials.
URL:https://kansaslegion.org/event/cadet-law-enforcement-academy
LOCATION:Kansas Highway Patrol\, 2019 E Iron Ave.\, Salina\, KS\, 67401\, United States
END:VEVENT
BEGIN:VEVENT
DTSTART;VALUE=DATE:20230609
DTEND;VALUE=DATE:20230612
DTSTAMP:20260425T115939
CREATED:20211122T203120Z
LAST-MODIFIED:20230204T141145Z
UID:1269-1686268800-1686527999@kansaslegion.org
SUMMARY:Kansas American Legion College
DESCRIPTION:
URL:https://kansaslegion.org/event/leadership-college-2
LOCATION:Cloud County Community College\, 2221 Campus Dr.\, Concordia\, KS\, 66901\, United States
END:VEVENT
BEGIN:VEVENT
DTSTART;VALUE=DATE:20230604
DTEND;VALUE=DATE:20230611
DTSTAMP:20260425T115939
CREATED:20211122T195611Z
LAST-MODIFIED:20230204T141302Z
UID:1247-1685836800-1686441599@kansaslegion.org
SUMMARY:Boys State
DESCRIPTION:The essence of Boys State is a program in which participants learn about leadership by becoming a mock\, or virtual\, government. This technique\, which we refer to as learning-by-doing\, was the goal Legionnaires Hayes Kennedy and Harrold L. Card wanted to reach when they founded Boys State in Illinois in 1935. \nKansas was the fifth state in the country to adopt this program. The first session of Boys State was held June 6 – 12\, 1937 at Wichita University (renamed Wichita State University) in what is now called Wilner Auditorium. The program was also held at North High and West High during the Wichita years. \nIn 1963 the program moved from Wichita to the University of Kansas in Lawrence\, Kansas. \nIn 1991 the program moved to its current location\, Kansas State University in Manhattan\, Kansas. \nFor more information about The American Legion Boys State of Kansas\, visit their website: https://ksbstate.org/
URL:https://kansaslegion.org/event/boys-state
LOCATION:Kansas State University\, 1835 Claflin Rd.\, Manhattan\, KS\, 66502\, United States
END:VEVENT
BEGIN:VEVENT
DTSTART;VALUE=DATE:20230602
DTEND;VALUE=DATE:20230605
DTSTAMP:20260425T115939
CREATED:20211122T194936Z
LAST-MODIFIED:20230204T141507Z
UID:1244-1685664000-1685923199@kansaslegion.org
SUMMARY:Department Convention
DESCRIPTION:Joining the Legion in Convention will be the American Legion Auxiliary and the Sons of the American Legion who will hold their own independent Conventions in addition to two joint sessions involving all three groups.\nNow is the time to make housing reservations by calling the Ramada at 785-234-5400.
URL:https://kansaslegion.org/event/department-convention-2
LOCATION:Ramada Hotel\, Topeka\, 420 SE 6th St\, Topeka\, KS\, 66607\, United States
END:VEVENT
BEGIN:VEVENT
DTSTART;VALUE=DATE:20230429
DTEND;VALUE=DATE:20230430
DTSTAMP:20260425T115939
CREATED:20211110T201345Z
LAST-MODIFIED:20230204T144540Z
UID:1221-1682726400-1682812799@kansaslegion.org
SUMMARY:District X Convention
DESCRIPTION:
URL:https://kansaslegion.org/event/district-x-convention
LOCATION:Greenleaf\, KS
END:VEVENT
BEGIN:VEVENT
DTSTART;VALUE=DATE:20230429
DTEND;VALUE=DATE:20230430
DTSTAMP:20260425T115939
CREATED:20211110T200911Z
LAST-MODIFIED:20230204T143718Z
UID:1213-1682726400-1682812799@kansaslegion.org
SUMMARY:District VI Convention
DESCRIPTION:
URL:https://kansaslegion.org/event/district-vi-convention-2
LOCATION:Ellsworth\, KS
END:VEVENT
BEGIN:VEVENT
DTSTART;VALUE=DATE:20230422
DTEND;VALUE=DATE:20230423
DTSTAMP:20260425T115939
CREATED:20211220T155617Z
LAST-MODIFIED:20230204T144139Z
UID:1393-1682121600-1682207999@kansaslegion.org
SUMMARY:District VIII Convention
DESCRIPTION:
URL:https://kansaslegion.org/event/district-viii-convention-2
LOCATION:Garden City\, KS
END:VEVENT
BEGIN:VEVENT
DTSTART;VALUE=DATE:20230422
DTEND;VALUE=DATE:20230423
DTSTAMP:20260425T115939
CREATED:20211110T201233Z
LAST-MODIFIED:20230204T144359Z
UID:1218-1682121600-1682207999@kansaslegion.org
SUMMARY:District IX Convention
DESCRIPTION:
URL:https://kansaslegion.org/event/district-ix-convention-2
LOCATION:Norton\, KS
END:VEVENT
BEGIN:VEVENT
DTSTART;VALUE=DATE:20230415
DTEND;VALUE=DATE:20230416
DTSTAMP:20260425T115939
CREATED:20211110T200718Z
LAST-MODIFIED:20230204T143129Z
UID:1207-1681516800-1681603199@kansaslegion.org
SUMMARY:District IV Convention
DESCRIPTION:
URL:https://kansaslegion.org/event/district-iv-convention-2
LOCATION:Junction City\, KS
END:VEVENT
BEGIN:VEVENT
DTSTART;VALUE=DATE:20230415
DTEND;VALUE=DATE:20230416
DTSTAMP:20260425T115939
CREATED:20211110T200407Z
LAST-MODIFIED:20230204T142403Z
UID:1199-1681516800-1681603199@kansaslegion.org
SUMMARY:District I Convention
DESCRIPTION:
URL:https://kansaslegion.org/event/district-i-convention-2
LOCATION:Leavenworth\, KS
END:VEVENT
BEGIN:VEVENT
DTSTART;VALUE=DATE:20230401
DTEND;VALUE=DATE:20230402
DTSTAMP:20260425T115939
CREATED:20211110T201008Z
LAST-MODIFIED:20230204T143931Z
UID:1215-1680307200-1680393599@kansaslegion.org
SUMMARY:District VII Convention
DESCRIPTION:
URL:https://kansaslegion.org/event/district-vii-convention-2
LOCATION:Sterling\, KS
END:VEVENT
END:VCALENDAR