BEGIN:VCALENDAR
VERSION:2.0
PRODID:-//Kansas Department of The American Legion - ECPv6.15.20//NONSGML v1.0//EN
CALSCALE:GREGORIAN
METHOD:PUBLISH
X-ORIGINAL-URL:https://kansaslegion.org
X-WR-CALDESC:Events for Kansas Department of The American Legion
REFRESH-INTERVAL;VALUE=DURATION:PT1H
X-Robots-Tag:noindex
X-PUBLISHED-TTL:PT1H
BEGIN:VTIMEZONE
TZID:America/Chicago
BEGIN:DAYLIGHT
TZOFFSETFROM:-0600
TZOFFSETTO:-0500
TZNAME:CDT
DTSTART:20240310T080000
END:DAYLIGHT
BEGIN:STANDARD
TZOFFSETFROM:-0500
TZOFFSETTO:-0600
TZNAME:CST
DTSTART:20241103T070000
END:STANDARD
BEGIN:DAYLIGHT
TZOFFSETFROM:-0600
TZOFFSETTO:-0500
TZNAME:CDT
DTSTART:20250309T080000
END:DAYLIGHT
BEGIN:STANDARD
TZOFFSETFROM:-0500
TZOFFSETTO:-0600
TZNAME:CST
DTSTART:20251102T070000
END:STANDARD
BEGIN:DAYLIGHT
TZOFFSETFROM:-0600
TZOFFSETTO:-0500
TZNAME:CDT
DTSTART:20260308T080000
END:DAYLIGHT
BEGIN:STANDARD
TZOFFSETFROM:-0500
TZOFFSETTO:-0600
TZNAME:CST
DTSTART:20261101T070000
END:STANDARD
BEGIN:DAYLIGHT
TZOFFSETFROM:-0600
TZOFFSETTO:-0500
TZNAME:CDT
DTSTART:20270314T080000
END:DAYLIGHT
BEGIN:STANDARD
TZOFFSETFROM:-0500
TZOFFSETTO:-0600
TZNAME:CST
DTSTART:20271107T070000
END:STANDARD
BEGIN:DAYLIGHT
TZOFFSETFROM:-0600
TZOFFSETTO:-0500
TZNAME:CDT
DTSTART:20280312T080000
END:DAYLIGHT
BEGIN:STANDARD
TZOFFSETFROM:-0500
TZOFFSETTO:-0600
TZNAME:CST
DTSTART:20281105T070000
END:STANDARD
BEGIN:DAYLIGHT
TZOFFSETFROM:-0600
TZOFFSETTO:-0500
TZNAME:CDT
DTSTART:20290311T080000
END:DAYLIGHT
BEGIN:STANDARD
TZOFFSETFROM:-0500
TZOFFSETTO:-0600
TZNAME:CST
DTSTART:20291104T070000
END:STANDARD
END:VTIMEZONE
BEGIN:VEVENT
DTSTART;VALUE=DATE:20250822
DTEND;VALUE=DATE:20250829
DTSTAMP:20260425T110656
CREATED:20240203T154341Z
LAST-MODIFIED:20240203T155133Z
UID:2518-1755820800-1756425599@kansaslegion.org
SUMMARY:National Convention
DESCRIPTION:
URL:https://kansaslegion.org/event/national-convention-3
LOCATION:Tampa Bay\, Florida\, Tampa Bay\, FL\, United States
CATEGORIES:National
END:VEVENT
BEGIN:VEVENT
DTSTART;VALUE=DATE:20260828
DTEND;VALUE=DATE:20260904
DTSTAMP:20260425T110656
CREATED:20240203T154617Z
LAST-MODIFIED:20240203T155101Z
UID:2521-1787875200-1788479999@kansaslegion.org
SUMMARY:National Convention
DESCRIPTION:
URL:https://kansaslegion.org/event/national-convention-4
LOCATION:Louisville\, Kentucky\, Louisville\, KY\, United States
CATEGORIES:National
END:VEVENT
BEGIN:VEVENT
DTSTART;VALUE=DATE:20270827
DTEND;VALUE=DATE:20270904
DTSTAMP:20260425T110656
CREATED:20240203T154844Z
LAST-MODIFIED:20240203T154844Z
UID:2524-1819324800-1820015999@kansaslegion.org
SUMMARY:National Convention
DESCRIPTION:
URL:https://kansaslegion.org/event/national-convention-5
LOCATION:Kansas City\, Missouri\, Kansas City\, MO\, United States
CATEGORIES:National
END:VEVENT
BEGIN:VEVENT
DTSTART;VALUE=DATE:20280825
DTEND;VALUE=DATE:20280901
DTSTAMP:20260425T110656
CREATED:20240203T155026Z
LAST-MODIFIED:20240203T155026Z
UID:2527-1850774400-1851379199@kansaslegion.org
SUMMARY:National Convention
DESCRIPTION:
URL:https://kansaslegion.org/event/national-convention-6
LOCATION:Columbus\, Ohio\, Columbus\, OH\, United States
CATEGORIES:National
END:VEVENT
END:VCALENDAR